BEGIN:VCALENDAR
VERSION:2.0
PRODID:-//https://mail.mapm.org///NONSGML kigkonsult.se iCalcreator 2.10.15//
METHOD:PUBLISH
BEGIN:VEVENT
UID:20260423T081852UTC-85684dgT4V@https://mail.mapm.org/
DTSTAMP:20260423T081852Z
DESCRIPTION: https://mail.mapm.org/events/calendar/event/445-delegate-counc
 il-meeting
DTSTART:20240611T110000Z
DTEND:20240611T130000Z
LOCATION:Zoom-Based Virtual Meeting (445 Wacouta St\, St Paul\, MN 55101\, 
 USA)
SUMMARY:Delegate Council Meeting
URL:https://mail.mapm.org/events/calendar/event/445-delegate-council-meetin
 g
END:VEVENT
END:VCALENDAR
