BEGIN:VCALENDAR
VERSION:2.0
PRODID:-//https://mail.mapm.org///NONSGML kigkonsult.se iCalcreator 2.10.15//
METHOD:PUBLISH
BEGIN:VEVENT
UID:20260424T144400UTC-1828oc7vV6@https://mail.mapm.org/
DTSTAMP:20260424T144400Z
DESCRIPTION: https://mail.mapm.org/events/calendar/event/458-new-event
DTSTART:20241210T110000Z
DTEND:20241210T213200Z
LOCATION:Zoom-Based Virtual Meeting (445 Wacouta St\, St Paul\, MN 55101\, 
 USA)
SUMMARY:New event
URL:https://mail.mapm.org/events/calendar/event/458-new-event
END:VEVENT
BEGIN:VEVENT
UID:20260424T144400UTC-1829buwxlw@https://mail.mapm.org/
DTSTAMP:20260424T144400Z
DESCRIPTION:To discuss the elections and plans for the Annual Meeting. http
 s://mail.mapm.org/events/calendar/event/460-monthly-delegate-council-meeti
 ng
DTSTART:20241210T110000Z
DTEND:20241210T130000Z
LOCATION:Being held via Zoom - contact any MAP Leadership Team member for i
 nformation ()
SUMMARY:Monthly Delegate Council Meeting
URL:https://mail.mapm.org/events/calendar/event/460-monthly-delegate-counci
 l-meeting
END:VEVENT
END:VCALENDAR
