BEGIN:VCALENDAR
VERSION:2.0
PRODID:-//https://mail.mapm.org///NONSGML kigkonsult.se iCalcreator 2.10.15//
METHOD:PUBLISH
BEGIN:VEVENT
UID:20260422T034916UTC-2809VwuBlL@https://mail.mapm.org/
DTSTAMP:20260422T034916Z
DESCRIPTION:'Almost 20\,000 people have been killed in Gaza\,&nbsp\;includi
 ng 7\,000 children. Two million Palestinians face death from the bombs\, s
 tarvation and disease.&nbsp\; We stand with the people of Gaza.&nbsp\; We 
 are doing a solidarity hunger strike to demand an immediate ceasefire and 
 urgent delivery of food\, water\, medical supplies\, fuel\, and clothing t
 o all areas of Gaza.\n&nbsp\;\nDo a one-day or multiple-day hunger strike.
 &nbsp\; Do what you can.&nbsp\; Send us your name\, affiliation\, photo\, 
 and day of your hunger strike - to&nbsp\;mapmn.info@gmail.com.' https://ma
 il.mapm.org/events/calendar/event/431-solidarity-hunger-strike-with-gaza
DTSTART:20231218T080000Z
DTEND:20231218T220000Z
LOCATION:MAP Headquarters (Minneapolis\,MN 55416)
SUMMARY:Solidarity Hunger Strike with Gaza
URL:https://mail.mapm.org/events/calendar/event/431-solidarity-hunger-strik
 e-with-gaza
END:VEVENT
END:VCALENDAR
