BEGIN:VCALENDAR
VERSION:2.0
PRODID:-//https://mail.mapm.org///NONSGML kigkonsult.se iCalcreator 2.10.15//
METHOD:PUBLISH
BEGIN:VEVENT
UID:20260424T124158UTC-8152tVIJNP@https://mail.mapm.org/
DTSTAMP:20260424T124158Z
DESCRIPTION: https://mail.mapm.org/events/calendar/event/166-map-delegate-c
 ouncil-meetings-held-every-month-on-the-2nd-tuesday
DTSTART:20191008T110000Z
DTEND:20191008T130000Z
LOCATION:Plymouth Congregational Church (1900 Nicollet Ave\, Minneapolis\, 
 MN 55403)
SUMMARY:MAP Delegate Council Meetings\, held every month on the 2nd Tuesday
URL:https://mail.mapm.org/events/calendar/event/166-map-delegate-council-me
 etings-held-every-month-on-the-2nd-tuesday
END:VEVENT
END:VCALENDAR
