BEGIN:VCALENDAR
VERSION:2.0
PRODID:-//https://mail.mapm.org///NONSGML kigkonsult.se iCalcreator 2.10.15//
METHOD:PUBLISH
BEGIN:VEVENT
UID:20260424T124108UTC-926025PHxV@https://mail.mapm.org/
DTSTAMP:20260424T124108Z
DESCRIPTION: https://mail.mapm.org/events/calendar/event/169-map-delegate-c
 ouncil-meetings-held-every-month-on-the-2nd-tuesday
DTSTART:20200114T110000Z
DTEND:20200114T130000Z
LOCATION:Plymouth Congregational Church (1900 Nicollet Ave\, Minneapolis\, 
 MN 55403)
SUMMARY:MAP Delegate Council Meetings\, held every month on the 2nd Tuesday
URL:https://mail.mapm.org/events/calendar/event/169-map-delegate-council-me
 etings-held-every-month-on-the-2nd-tuesday
END:VEVENT
END:VCALENDAR
