BEGIN:VCALENDAR
VERSION:2.0
PRODID:-//https://mail.mapm.org///NONSGML kigkonsult.se iCalcreator 2.10.15//
METHOD:PUBLISH
BEGIN:VEVENT
UID:20260424T124108UTC-0728l3i2tM@https://mail.mapm.org/
DTSTAMP:20260424T124108Z
DESCRIPTION: https://mail.mapm.org/events/calendar/event/171-map-delegate-c
 ouncil-meetings-held-every-month-on-the-2nd-tuesday
DTSTART:20200310T110000Z
DTEND:20200310T130000Z
LOCATION:Walker Community United Methodist Church\,  (3104 16th Ave S\, Min
 neapolis\, MN 55407\, USA)
SUMMARY:MAP Delegate Council Meetings\, held every month on the 2nd Tuesday
URL:https://mail.mapm.org/events/calendar/event/171-map-delegate-council-me
 etings-held-every-month-on-the-2nd-tuesday
END:VEVENT
END:VCALENDAR
