BEGIN:VCALENDAR
VERSION:2.0
PRODID:-//https://mail.mapm.org///NONSGML kigkonsult.se iCalcreator 2.10.15//
METHOD:PUBLISH
BEGIN:VEVENT
UID:20260424T124219UTC-1641fRr4vx@https://mail.mapm.org/
DTSTAMP:20260424T124219Z
DESCRIPTION: https://mail.mapm.org/events/calendar/event/173-map-delegate-c
 ouncil-meetings-held-every-month-on-the-2nd-tuesday
DTSTART:20200512T110000Z
DTEND:20200512T130000Z
LOCATION:Being held via Zoom - contact any MAP Leadership Team member for i
 nformation ()
SUMMARY:MAP Delegate Council Meetings\, held every month on the 2nd Tuesday
URL:https://mail.mapm.org/events/calendar/event/173-map-delegate-council-me
 etings-held-every-month-on-the-2nd-tuesday
END:VEVENT
END:VCALENDAR
